BEGIN:VCALENDAR
VERSION:2.0
PRODID:-//eventon.com NONSGML v1.0//EN
CALSCALE:GREGORIAN
METHOD:PUBLISH
BEGIN:VEVENT
UID:69e74bcb324ff
DTSTAMP:20260421T100459Z
DTSTART:20260417T160000Z
DTEND:20260417T163000Z
LOCATION:Portsmouth&#039;s African Burying Ground 97 Chestnut Street
SUMMARY:Portsmouth Jazz Parade
DESCRIPTION:As part of PMAC&#8217;s Visiting Guest Artist Jazz Residency\, 
  there will be a JAZZ PARADE with Grammy Award-winning DELFEAYO MARSALIS\, 
  members of New Orleans&#8217;s Uptown Jazz Orchestra\,  and local band stu
 dents at noon on Friday\,  April 17 in downtown Portsmouth. Attendees are i
 nvited to follow the musicians along the route![..]\nhttps://pmaconline.org
 /blog/events/portsmouth-jazz-parade-2026/
URL:https://pmaconline.org/blog/events/portsmouth-jazz-parade-2026/
END:VEVENT
END:VCALENDAR